BEGIN:VCALENDAR
VERSION:2.0
PRODID:-//Deafblind UK - ECPv6.15.20//NONSGML v1.0//EN
CALSCALE:GREGORIAN
METHOD:PUBLISH
X-WR-CALNAME:Deafblind UK
X-ORIGINAL-URL:https://deafblind.org.uk
X-WR-CALDESC:Events for Deafblind UK
REFRESH-INTERVAL;VALUE=DURATION:PT1H
X-Robots-Tag:noindex
X-PUBLISHED-TTL:PT1H
BEGIN:VTIMEZONE
TZID:Europe/London
BEGIN:DAYLIGHT
TZOFFSETFROM:+0000
TZOFFSETTO:+0100
TZNAME:BST
DTSTART:20250330T010000
END:DAYLIGHT
BEGIN:STANDARD
TZOFFSETFROM:+0100
TZOFFSETTO:+0000
TZNAME:GMT
DTSTART:20251026T010000
END:STANDARD
BEGIN:DAYLIGHT
TZOFFSETFROM:+0000
TZOFFSETTO:+0100
TZNAME:BST
DTSTART:20260329T010000
END:DAYLIGHT
BEGIN:STANDARD
TZOFFSETFROM:+0100
TZOFFSETTO:+0000
TZNAME:GMT
DTSTART:20261025T010000
END:STANDARD
BEGIN:DAYLIGHT
TZOFFSETFROM:+0000
TZOFFSETTO:+0100
TZNAME:BST
DTSTART:20270328T010000
END:DAYLIGHT
BEGIN:STANDARD
TZOFFSETFROM:+0100
TZOFFSETTO:+0000
TZNAME:GMT
DTSTART:20271031T010000
END:STANDARD
END:VTIMEZONE
BEGIN:VEVENT
DTSTART;TZID=Europe/London:20260424T150000
DTEND;TZID=Europe/London:20260424T160000
DTSTAMP:20260424T144655
CREATED:20251202T120825Z
LAST-MODIFIED:20260116T152053Z
UID:10000293-1777042800-1777046400@deafblind.org.uk
SUMMARY:Job Club
DESCRIPTION:Drop into our Friday Employability Job Club sessions for on-the-spot employability support. \nIf you’d like support with an upcoming interview\, get help with completing an application\, or seek advice about improving your job searching then we are here to support you! \nSessions will be held every 2nd and 4th Friday of each month\, between 2pm-4pm. \nNo need to register\, just drop in when you need us! \n\nZoom joining link for 2nd Fridays: https://us06web.zoom.us/j/89348687316\nZoom joining link for 4th Fridays: https://us06web.zoom.us/j/87364767657\n\nFor further info please email: employability@deafblind.org.uk 
URL:https://deafblind.org.uk/events/job-club-8/
ATTACH;FMTTYPE=image/png:https://deafblind.org.uk/wp-content/uploads/2025/01/Tech-support-surgery-10Jan-2-6.png
END:VEVENT
END:VCALENDAR