BEGIN:VCALENDAR
VERSION:2.0
PRODID:-//Deafblind UK - ECPv6.15.20//NONSGML v1.0//EN
CALSCALE:GREGORIAN
METHOD:PUBLISH
X-ORIGINAL-URL:https://deafblind.org.uk
X-WR-CALDESC:Events for Deafblind UK
REFRESH-INTERVAL;VALUE=DURATION:PT1H
X-Robots-Tag:noindex
X-PUBLISHED-TTL:PT1H
BEGIN:VTIMEZONE
TZID:Europe/London
BEGIN:DAYLIGHT
TZOFFSETFROM:+0000
TZOFFSETTO:+0100
TZNAME:BST
DTSTART:20240331T010000
END:DAYLIGHT
BEGIN:STANDARD
TZOFFSETFROM:+0100
TZOFFSETTO:+0000
TZNAME:GMT
DTSTART:20241027T010000
END:STANDARD
BEGIN:DAYLIGHT
TZOFFSETFROM:+0000
TZOFFSETTO:+0100
TZNAME:BST
DTSTART:20250330T010000
END:DAYLIGHT
BEGIN:STANDARD
TZOFFSETFROM:+0100
TZOFFSETTO:+0000
TZNAME:GMT
DTSTART:20251026T010000
END:STANDARD
BEGIN:DAYLIGHT
TZOFFSETFROM:+0000
TZOFFSETTO:+0100
TZNAME:BST
DTSTART:20260329T010000
END:DAYLIGHT
BEGIN:STANDARD
TZOFFSETFROM:+0100
TZOFFSETTO:+0000
TZNAME:GMT
DTSTART:20261025T010000
END:STANDARD
BEGIN:DAYLIGHT
TZOFFSETFROM:+0000
TZOFFSETTO:+0100
TZNAME:BST
DTSTART:20270328T010000
END:DAYLIGHT
BEGIN:STANDARD
TZOFFSETFROM:+0100
TZOFFSETTO:+0000
TZNAME:GMT
DTSTART:20271031T010000
END:STANDARD
END:VTIMEZONE
BEGIN:VEVENT
DTSTART;VALUE=DATE:20260308
DTEND;VALUE=DATE:20260309
DTSTAMP:20260424T221744
CREATED:20250519T085928Z
LAST-MODIFIED:20250519T123824Z
UID:10000471-1772928000-1773014399@deafblind.org.uk
SUMMARY:Paris Half Marathon 2026
DESCRIPTION:
URL:https://deafblind.org.uk/events/paris-half-marathon-2026/
LOCATION:Paris\, Paris\, France
ATTACH;FMTTYPE=image/avif:https://deafblind.org.uk/wp-content/uploads/2024/08/Eiffel-tower.avif
END:VEVENT
BEGIN:VEVENT
DTSTART;TZID=Europe/London:20250309T080000
DTEND;TZID=Europe/London:20250309T170000
DTSTAMP:20260424T221744
CREATED:20240909T074036Z
LAST-MODIFIED:20240909T085755Z
UID:10000118-1741507200-1741539600@deafblind.org.uk
SUMMARY:Paris Half Marathon 2025
DESCRIPTION:
URL:https://deafblind.org.uk/events/paris-half-marathon-2025/
LOCATION:Paris\, Paris\, France
ATTACH;FMTTYPE=image/jpeg:https://deafblind.org.uk/wp-content/uploads/2024/08/Paris-half-1.jpg
END:VEVENT
END:VCALENDAR